BEGIN:VCALENDAR
VERSION:2.0
PRODID:-//ChamberMaster//Event Calendar 2.0//EN
METHOD:PUBLISH
X-PUBLISHED-TTL:P3D
REFRESH-INTERVAL:P3D
CALSCALE:GREGORIAN
BEGIN:VEVENT
DTSTART:20191121T160000Z
DTEND:20191121T173000Z
X-MICROSOFT-CDO-ALLDAYEVENT:FALSE
SUMMARY:Destination Next Union County
DESCRIPTION:Destination Union County\n\nUnion County Convention & Visitors Bureau and Union County Economic Development staff and leadership Invite you to attend a strategic destination development presentation by Berkeley Young\, Young Strategies\, Inc.
X-ALT-DESC;FMTTYPE=text/html:Destination Union County<br>\nUnion County Convention &amp\; Visitors Bureau and Union County Economic Development staff and leadership Invite you to attend a strategic destination development presentation by Berkeley Young\, Young Strategies\, Inc.
LOCATION:Union Rural Electric 15461 US-36 Marysville\, OH
UID:e.1767.12956
SEQUENCE:3
DTSTAMP:20260424T132503Z
URL:https://chambermaster.unioncounty.org/events/details/destination-next-union-county-12956
END:VEVENT

END:VCALENDAR
