BEGIN:VCALENDAR
VERSION:2.0
PRODID:-//ChamberMaster//Event Calendar 2.0//EN
METHOD:PUBLISH
X-PUBLISHED-TTL:P3D
REFRESH-INTERVAL:P3D
CALSCALE:GREGORIAN
BEGIN:VEVENT
DTSTART;VALUE=DATE:20180707
DTEND;VALUE=DATE:20180708
TRANSP:TRANSPARENT
X-MICROSOFT-CDO-ALLDAYEVENT:TRUE
SUMMARY:Delynn Kale Memorial Truck & Tractor Pull
DESCRIPTION:Ohio State Sanctioned truck and tractor pull with all proceeds going to Lung Cancer Research
X-ALT-DESC;FMTTYPE=text/html:Ohio State Sanctioned truck and tractor pull with all proceeds going to Lung Cancer Research
LOCATION:Richwood Ohio Fairgrounds
UID:e.1767.12712
SEQUENCE:3
DTSTAMP:20260425T170232Z
URL:https://chambermaster.unioncounty.org/events/details/delynn-kale-memorial-truck-tractor-pull-07-07-2018-12712
END:VEVENT

END:VCALENDAR
