BEGIN:VCALENDAR
VERSION:2.0
PRODID:-//ChamberMaster//Event Calendar 2.0//EN
METHOD:PUBLISH
X-PUBLISHED-TTL:P3D
REFRESH-INTERVAL:P3D
CALSCALE:GREGORIAN
BEGIN:VEVENT
DTSTART:20180926T213000Z
DTEND:20180926T230000Z
X-MICROSOFT-CDO-ALLDAYEVENT:FALSE
SUMMARY:Covered Bridge Festival Committee Meeting
DESCRIPTION:Covered Bridge & Bluegrass Festival Committee
X-ALT-DESC;FMTTYPE=text/html:Covered Bridge &amp\; Bluegrass Festival Committee<br />\n&nbsp\;
LOCATION:Union County Chamber of Commerce 227 East Fifth Street Marysville
UID:e.1767.10684
SEQUENCE:3
DTSTAMP:20260425T133604Z
URL:https://chambermaster.unioncounty.org/events/details/covered-bridge-festival-committee-meeting-09-26-2018-10684
END:VEVENT

END:VCALENDAR
