BEGIN:VCALENDAR
VERSION:2.0
PRODID:-//ChamberMaster//Event Calendar 2.0//EN
METHOD:PUBLISH
X-PUBLISHED-TTL:P3D
REFRESH-INTERVAL:P3D
CALSCALE:GREGORIAN
BEGIN:VEVENT
DTSTART:20180829T213000Z
DTEND:20180829T230000Z
X-MICROSOFT-CDO-ALLDAYEVENT:FALSE
SUMMARY:Covered Bridge Festival Committee Meeting
DESCRIPTION:Covered Bridge & Bluegrass Festival Committee
X-ALT-DESC;FMTTYPE=text/html:Covered Bridge &amp\; Bluegrass Festival Committee<br />\n&nbsp\;
LOCATION:Pottersburg Bridge17141 Inskeep-Cratty Rd\, North Lewisburg
UID:e.1767.10683
SEQUENCE:3
DTSTAMP:20260425T153342Z
URL:https://chambermaster.unioncounty.org/events/details/covered-bridge-festival-committee-meeting-08-29-2018-10683
END:VEVENT

END:VCALENDAR
