BEGIN:VCALENDAR
VERSION:2.0
PRODID:-//ChamberMaster//Event Calendar 2.0//EN
METHOD:PUBLISH
X-PUBLISHED-TTL:P3D
REFRESH-INTERVAL:P3D
CALSCALE:GREGORIAN
BEGIN:VEVENT
DTSTART:20180922T140000Z
DTEND:20180922T160000Z
X-MICROSOFT-CDO-ALLDAYEVENT:FALSE
SUMMARY:Covered Bridge Bus Tours 9/22/18 10 am
DESCRIPTION:See all seven bridges by hopping on a bus for a guided covered bridge tour and cruise along the Big Darby Plains Scenic Byway.\n\nLimit 11
X-ALT-DESC;FMTTYPE=text/html:<span style="margin: 0px\; padding: 0px\; border: 0px\; outline: 0px\; vertical-align: baseline\; background: 0px 0px\; color: rgb(61\, 61\, 61)\; font-family: &quot\;palatino linotype&quot\;\, serif\; font-size: 16px\; letter-spacing: 0.08em\;">See all seven bridges by&nbsp\;</span><span style="margin: 0px\; padding: 0px\; border: 0px\; outline: 0px\; vertical-align: baseline\; background: 0px 0px\; color: rgb(61\, 61\, 61)\; font-family: &quot\;palatino linotype&quot\;\, serif\; font-size: 16px\; letter-spacing: 0.08em\;">hopping</span><span style="margin: 0px\; padding: 0px\; border: 0px\; outline: 0px\; vertical-align: baseline\; background: 0px 0px\; color: rgb(61\, 61\, 61)\; font-family: &quot\;palatino linotype&quot\;\, serif\; font-size: 16px\; letter-spacing: 0.08em\;">&nbsp\;on a bus for a guided covered bridge&nbsp\;tour&nbsp\;</span><span style="color: rgb(61\, 61\, 61)\; font-family: &quot\;palatino linotype&quot\;\, serif\; font-size: 16px\; letter-spacing: 1.28px\;">and cruise along&nbsp\;the Big Darby Plains Scenic Byway.<br />\nLimit 11</span>
LOCATION:Pottersburg Bridge 17141 Inskeep Cratty Rd. North Lewisburg\, OH
UID:e.1767.12728
SEQUENCE:3
DTSTAMP:20260425T133303Z
URL:https://chambermaster.unioncounty.org/events/details/covered-bridge-bus-tours-9-22-18-10-am-12728
END:VEVENT

END:VCALENDAR
