BEGIN:VCALENDAR
VERSION:2.0
PRODID:-//ChamberMaster//Event Calendar 2.0//EN
METHOD:PUBLISH
X-PUBLISHED-TTL:P3D
REFRESH-INTERVAL:P3D
CALSCALE:GREGORIAN
BEGIN:VEVENT
DTSTART:20180814T123000Z
DTEND:20180814T133000Z
X-MICROSOFT-CDO-ALLDAYEVENT:FALSE
SUMMARY:Convention & Visitors Bureau Board
DESCRIPTION:Convention & Visitors Bureau Board
X-ALT-DESC;FMTTYPE=text/html:Convention &amp\; Visitors Bureau Board
LOCATION:Magnetic Springs Cafe 54 S. Main St.\, Magnetic Springs
UID:e.1767.7264
SEQUENCE:3
DTSTAMP:20260425T152113Z
URL:https://chambermaster.unioncounty.org/events/details/convention-visitors-bureau-board-08-14-2018-7264
END:VEVENT

END:VCALENDAR
