BEGIN:VCALENDAR
VERSION:2.0
PRODID:-//ChamberMaster//Event Calendar 2.0//EN
METHOD:PUBLISH
X-PUBLISHED-TTL:P3D
REFRESH-INTERVAL:P3D
CALSCALE:GREGORIAN
BEGIN:VEVENT
DTSTART:20210713T123000Z
DTEND:20210713T133000Z
X-MICROSOFT-CDO-ALLDAYEVENT:FALSE
SUMMARY:Convention & Visitors Bureau Board
DESCRIPTION:Convention & Visitors Bureau Board
X-ALT-DESC;FMTTYPE=text/html:Convention &amp\; Visitors Bureau Board
LOCATION:Chamber Office 227 E. Fifth St. Marysville\, OH.
UID:e.1767.7299
SEQUENCE:3
DTSTAMP:20260422T221941Z
URL:https://chambermaster.unioncounty.org/events/details/convention-visitors-bureau-board-07-13-2021-7299
END:VEVENT

END:VCALENDAR
