BEGIN:VCALENDAR
VERSION:2.0
PRODID:-//ChamberMaster//Event Calendar 2.0//EN
METHOD:PUBLISH
X-PUBLISHED-TTL:P3D
REFRESH-INTERVAL:P3D
CALSCALE:GREGORIAN
BEGIN:VEVENT
DTSTART:20180109T133000Z
DTEND:20180109T143000Z
X-MICROSOFT-CDO-ALLDAYEVENT:FALSE
SUMMARY:Convention & Visitors Bureau Board
DESCRIPTION:Convention & Visitors Bureau Board
X-ALT-DESC;FMTTYPE=text/html:Convention &amp\; Visitors Bureau Board&nbsp\;
LOCATION:
UID:e.1767.7257
SEQUENCE:3
DTSTAMP:20260426T032852Z
URL:https://chambermaster.unioncounty.org/events/details/convention-visitors-bureau-board-01-09-2018-7257
END:VEVENT

END:VCALENDAR
