BEGIN:VCALENDAR
VERSION:2.0
PRODID:-//ChamberMaster//Event Calendar 2.0//EN
METHOD:PUBLISH
X-PUBLISHED-TTL:P3D
REFRESH-INTERVAL:P3D
CALSCALE:GREGORIAN
BEGIN:VEVENT
DTSTART:20180923T170000Z
DTEND:20180923T183000Z
X-MICROSOFT-CDO-ALLDAYEVENT:FALSE
SUMMARY:Coffee & Canvas Sunday 9/23/2018 1 pm
DESCRIPTION:Coffee & Canvas on Pottersburg Bridge
X-ALT-DESC;FMTTYPE=text/html:Coffee &amp\; Canvas on Pottersburg Bridge<br />\n&nbsp\;
LOCATION:Pottersburg Bridge 17141 Inskeep Cratty Rd. North Lewisburg\, OH
UID:e.1767.12732
SEQUENCE:3
DTSTAMP:20260425T133301Z
URL:https://chambermaster.unioncounty.org/events/details/coffee-canvas-sunday-9-23-2018-1-pm-12732
END:VEVENT

END:VCALENDAR
