BEGIN:VCALENDAR
VERSION:2.0
PRODID:-//ChamberMaster//Event Calendar 2.0//EN
METHOD:PUBLISH
X-PUBLISHED-TTL:P3D
REFRESH-INTERVAL:P3D
CALSCALE:GREGORIAN
BEGIN:VEVENT
DTSTART:20191208T000000Z
DTEND:20191208T190000Z
X-MICROSOFT-CDO-ALLDAYEVENT:FALSE
SUMMARY:Christmas at Vets 2019
DESCRIPTION:The Singsations will be performing songs from the most beloved Christmas TV specials along with dancers from The Academy. There will also be a special visit from Santa!
X-ALT-DESC;FMTTYPE=text/html:The Singsations will be performing songs from the most beloved Christmas TV specials along with dancers from The Academy. There will also be a special visit from Santa!
LOCATION:Union County Veteran's Memorial Auditorium 233 West 6th Street Marysville\, Ohio 43040
UID:e.1767.13082
SEQUENCE:3
DTSTAMP:20260424T115641Z
URL:https://chambermaster.unioncounty.org/events/details/christmas-at-vets-2019-13082
END:VEVENT

END:VCALENDAR
