BEGIN:VCALENDAR
VERSION:2.0
PRODID:-//ChamberMaster//Event Calendar 2.0//EN
METHOD:PUBLISH
X-PUBLISHED-TTL:P3D
REFRESH-INTERVAL:P3D
CALSCALE:GREGORIAN
BEGIN:VEVENT
DTSTART:20200902T160000Z
DTEND:20200902T170000Z
X-MICROSOFT-CDO-ALLDAYEVENT:FALSE
SUMMARY:Chamber of Commerce Week - Virtual Meeting with OhioHealth COO\, Dr. Kevin Lutz
DESCRIPTION:Join this event on Wednesday\, September 2\, 2020\, from 12:00 pm - 1:00 pm to hear Dr. Kevin Lutz\, COO at OhioHealth\, speak on OhioHealth's current initiatives\, COVID challenges\, and giving back to the community.
X-ALT-DESC;FMTTYPE=text/html:Join this event on Wednesday\, September 2\, 2020\, from 12:00 pm - 1:00 pm to hear Dr. Kevin Lutz\, COO at OhioHealth\, speak on OhioHealth&#39\;s current initiatives\, COVID challenges\, and giving back to the community.
LOCATION:Zoom Virtual Meeting
UID:e.1767.13119
SEQUENCE:3
DTSTAMP:20260423T212139Z
URL:https://chambermaster.unioncounty.org/events/details/chamber-of-commerce-week-virtual-meeting-with-ohiohealth-coo-dr-kevin-lutz-13119
END:VEVENT

END:VCALENDAR
