BEGIN:VCALENDAR
VERSION:2.0
PRODID:-//ChamberMaster//Event Calendar 2.0//EN
METHOD:PUBLISH
X-PUBLISHED-TTL:P3D
REFRESH-INTERVAL:P3D
CALSCALE:GREGORIAN
BEGIN:VEVENT
DTSTART:20200901T150000Z
DTEND:20200901T160000Z
X-MICROSOFT-CDO-ALLDAYEVENT:FALSE
SUMMARY:Chamber of Commerce Week - Virtual Meeting with Lt. Governor Jon Husted
DESCRIPTION:Join this event on Tuesday\, September 1\, 2020\, from 11:00 am - 12:00 pm to hear Jon Husted\, Lt. Governor of Ohio and former Chamber of Commerce professional\, share his experience and insight on the importance of local Chambers in building the business community and growing local economy.
X-ALT-DESC;FMTTYPE=text/html:Join this event on Tuesday\, September 1\, 2020\, from 11:00 am - 12:00 pm to hear Jon Husted\, Lt. Governor of Ohio and former Chamber of Commerce professional\, share his experience and insight on the importance of local Chambers in building the business community and growing local economy.
LOCATION:Zoom Meeting
UID:e.1767.13118
SEQUENCE:3
DTSTAMP:20260423T230310Z
URL:https://chambermaster.unioncounty.org/events/details/chamber-of-commerce-week-virtual-meeting-with-lt-governor-jon-husted-13118
END:VEVENT

END:VCALENDAR
