BEGIN:VCALENDAR
VERSION:2.0
PRODID:-//ChamberMaster//Event Calendar 2.0//EN
METHOD:PUBLISH
X-PUBLISHED-TTL:P3D
REFRESH-INTERVAL:P3D
CALSCALE:GREGORIAN
BEGIN:VEVENT
DTSTART:20200903T140000Z
DTEND:20200904T030000Z
X-MICROSOFT-CDO-ALLDAYEVENT:FALSE
SUMMARY:Chamber of Commerce Week - Virtual Meeting Benefits Session
DESCRIPTION:Want to learn more about Chamber Benefits? This session will help you identify benefits that will work for you!\n\n(This session is from 10 am - 11 am and a Networking Session will be from 11 am - Noon and requires separate registration)
X-ALT-DESC;FMTTYPE=text/html:Want to learn more about Chamber Benefits? This session will help you identify benefits that will work for you!<br />\n(This session is from 10 am - 11 am and a Networking Session will be from 11 am - Noon and requires separate registration)
LOCATION:Zoom Event (you will receive a link with confirmation email)
UID:e.1767.13120
SEQUENCE:3
DTSTAMP:20260423T230211Z
URL:https://chambermaster.unioncounty.org/events/details/chamber-of-commerce-week-virtual-meeting-benefits-session-13120
END:VEVENT

END:VCALENDAR
