BEGIN:VCALENDAR
VERSION:2.0
PRODID:-//ChamberMaster//Event Calendar 2.0//EN
METHOD:PUBLISH
X-PUBLISHED-TTL:P3D
REFRESH-INTERVAL:P3D
CALSCALE:GREGORIAN
BEGIN:VEVENT
DTSTART:20201014T153000Z
DTEND:20201014T170000Z
X-MICROSOFT-CDO-ALLDAYEVENT:FALSE
SUMMARY:Safety Council
DESCRIPTION:Safety Council Meeting CEO Event\n\nTopic - Safety Supervision & Leadership\n\nSpeaker - Diane Adams - SafeEx
X-ALT-DESC;FMTTYPE=text/html:Safety Council Meeting CEO Event<br />\nTopic - Safety Supervision &amp\; Leadership<br />\nSpeaker - Diane Adams - SafeEx
LOCATION:
UID:e.1767.7928
SEQUENCE:3
DTSTAMP:20260423T103352Z
URL:https://chambermaster.unioncounty.org/events/details/cancelled-safety-council-office-ergonomics-10-14-2020-7928
END:VEVENT

END:VCALENDAR
