BEGIN:VCALENDAR
VERSION:2.0
PRODID:-//ChamberMaster//Event Calendar 2.0//EN
METHOD:PUBLISH
X-PUBLISHED-TTL:P3D
REFRESH-INTERVAL:P3D
CALSCALE:GREGORIAN
BEGIN:VEVENT
DTSTART:20220914T153000Z
DTEND:20220914T170000Z
X-MICROSOFT-CDO-ALLDAYEVENT:FALSE
SUMMARY:Safety Council
DESCRIPTION:Safety Council Meeting\n\nTopic - Fire Safety & Community Paramedicine Program
X-ALT-DESC;FMTTYPE=text/html:Safety Council Meeting<br />\nTopic - Fire Safety &amp\; Community Paramedicine Program
LOCATION:Union County Services Building 940 London Avenue Marysville
UID:e.1767.7951
SEQUENCE:3
DTSTAMP:20260422T011343Z
URL:https://chambermaster.unioncounty.org/events/details/cancelled-safety-council-office-ergonomics-09-14-2022-7951
END:VEVENT

END:VCALENDAR
