BEGIN:VCALENDAR
VERSION:2.0
PRODID:-//ChamberMaster//Event Calendar 2.0//EN
METHOD:PUBLISH
X-PUBLISHED-TTL:P3D
REFRESH-INTERVAL:P3D
CALSCALE:GREGORIAN
BEGIN:VEVENT
DTSTART:20180912T153000Z
DTEND:20180912T170000Z
X-MICROSOFT-CDO-ALLDAYEVENT:FALSE
SUMMARY:Safety Council
DESCRIPTION:Safety Council CEO Event\n\nTopic - Safety Supervision & Leadership
X-ALT-DESC;FMTTYPE=text/html:Safety Council CEO Event<br />\nTopic - Safety Supervision &amp\; Leadership
LOCATION:URE 15461 US 36 Marysville
UID:e.1767.7903
SEQUENCE:3
DTSTAMP:20260425T133404Z
URL:https://chambermaster.unioncounty.org/events/details/cancelled-safety-council-office-ergonomics-09-12-2018-7903
END:VEVENT

END:VCALENDAR
