BEGIN:VCALENDAR
VERSION:2.0
PRODID:-//ChamberMaster//Event Calendar 2.0//EN
METHOD:PUBLISH
X-PUBLISHED-TTL:P3D
REFRESH-INTERVAL:P3D
CALSCALE:GREGORIAN
BEGIN:VEVENT
DTSTART:20190911T153000Z
DTEND:20190911T170000Z
X-MICROSOFT-CDO-ALLDAYEVENT:FALSE
SUMMARY:Safety Council
DESCRIPTION:Safety Council Meeting  - CEO Event\n\nTopic - Safety Supervision & Leadership\n\nDeputy Fire Chief Jack Reall - Columbus Fire Department
X-ALT-DESC;FMTTYPE=text/html:Safety Council Meeting&nbsp\; - CEO Event<br />\nTopic - Safety Supervision &amp\; Leadership<br />\nDeputy Fire Chief Jack Reall - Columbus Fire Department
LOCATION:Union County Services Building 940 London Rd. Marysville\, OH
UID:e.1767.7915
SEQUENCE:3
DTSTAMP:20260424T170140Z
URL:https://chambermaster.unioncounty.org/events/details/cancelled-safety-council-office-ergonomics-09-11-2019-7915
END:VEVENT

END:VCALENDAR
