BEGIN:VCALENDAR
VERSION:2.0
PRODID:-//ChamberMaster//Event Calendar 2.0//EN
METHOD:PUBLISH
X-PUBLISHED-TTL:P3D
REFRESH-INTERVAL:P3D
CALSCALE:GREGORIAN
BEGIN:VEVENT
DTSTART:20200909T153000Z
DTEND:20200909T163000Z
X-MICROSOFT-CDO-ALLDAYEVENT:FALSE
SUMMARY:Safety Council
DESCRIPTION:Safety Council Meeting \n\nTopic - OSP /Drivers Safety
X-ALT-DESC;FMTTYPE=text/html:Safety Council Meeting&nbsp\;<br />\nTopic - OSP /Drivers Safety<br />\n&nbsp\;
LOCATION:Via Zoom
UID:e.1767.7927
SEQUENCE:3
DTSTAMP:20260423T211654Z
URL:https://chambermaster.unioncounty.org/events/details/cancelled-safety-council-office-ergonomics-09-09-2020-7927
END:VEVENT

END:VCALENDAR
