BEGIN:VCALENDAR
VERSION:2.0
PRODID:-//ChamberMaster//Event Calendar 2.0//EN
METHOD:PUBLISH
X-PUBLISHED-TTL:P3D
REFRESH-INTERVAL:P3D
CALSCALE:GREGORIAN
BEGIN:VEVENT
DTSTART:20200812T153000Z
DTEND:20200812T170000Z
X-MICROSOFT-CDO-ALLDAYEVENT:FALSE
SUMMARY:Safety Council
DESCRIPTION:Safety Council Meeting\n\nTopic - Ergonomics\n\nSpeaker - Brad Ridenour - BWC
X-ALT-DESC;FMTTYPE=text/html:Safety Council Meeting<br />\nTopic - Ergonomics<br />\nSpeaker - Brad Ridenour - BWC
LOCATION:Union County Services Building 940 London Rd. Marysville\, OH
UID:e.1767.7926
SEQUENCE:3
DTSTAMP:20260423T230233Z
URL:https://chambermaster.unioncounty.org/events/details/cancelled-safety-council-office-ergonomics-08-12-2020-7926
END:VEVENT

END:VCALENDAR
