BEGIN:VCALENDAR
VERSION:2.0
PRODID:-//ChamberMaster//Event Calendar 2.0//EN
METHOD:PUBLISH
X-PUBLISHED-TTL:P3D
REFRESH-INTERVAL:P3D
CALSCALE:GREGORIAN
BEGIN:VEVENT
DTSTART:20210714T153000Z
DTEND:20210714T170000Z
X-MICROSOFT-CDO-ALLDAYEVENT:FALSE
SUMMARY:Safety Council
DESCRIPTION:Safety Council Meeting\n\nTopic -
X-ALT-DESC;FMTTYPE=text/html:Safety Council Meeting<br />\nTopic -&nbsp\;
LOCATION:Union County Services Building 940 London Avenue Marysville
UID:e.1767.7937
SEQUENCE:3
DTSTAMP:20260422T222241Z
URL:https://chambermaster.unioncounty.org/events/details/cancelled-safety-council-office-ergonomics-07-14-2021-7937
END:VEVENT

END:VCALENDAR
