BEGIN:VCALENDAR
VERSION:2.0
PRODID:-//ChamberMaster//Event Calendar 2.0//EN
METHOD:PUBLISH
X-PUBLISHED-TTL:P3D
REFRESH-INTERVAL:P3D
CALSCALE:GREGORIAN
BEGIN:VEVENT
DTSTART:20190710T153000Z
DTEND:20190710T170000Z
X-MICROSOFT-CDO-ALLDAYEVENT:FALSE
SUMMARY:Safety Council
DESCRIPTION:Safety Council Meeting\n\nTopic - Bloodborne Pathogen
X-ALT-DESC;FMTTYPE=text/html:Safety Council Meeting<br />\nTopic - Bloodborne Pathogen<br />\n&nbsp\;
LOCATION:Union County Services Building 940 London Rd. Marysville\, OH
UID:e.1767.7913
SEQUENCE:3
DTSTAMP:20260424T200943Z
URL:https://chambermaster.unioncounty.org/events/details/cancelled-safety-council-office-ergonomics-07-10-2019-7913
END:VEVENT

END:VCALENDAR
