BEGIN:VCALENDAR
VERSION:2.0
PRODID:-//ChamberMaster//Event Calendar 2.0//EN
METHOD:PUBLISH
X-PUBLISHED-TTL:P3D
REFRESH-INTERVAL:P3D
CALSCALE:GREGORIAN
BEGIN:VEVENT
DTSTART:20200708T153000Z
DTEND:20200708T170000Z
X-MICROSOFT-CDO-ALLDAYEVENT:FALSE
SUMMARY:Safety Council
DESCRIPTION:Safety Council Meeting\n\nTopic - Ohio EPA/Pollution\n\nSpeaker - Lexie Andrews - Ohio EPA
X-ALT-DESC;FMTTYPE=text/html:Safety Council Meeting<br />\nTopic - Ohio EPA/Pollution<br />\nSpeaker - Lexie Andrews - Ohio EPA
LOCATION:Union County Services Building 940 London Rd. Marysville\, OH
UID:e.1767.7925
SEQUENCE:3
DTSTAMP:20260424T024210Z
URL:https://chambermaster.unioncounty.org/events/details/cancelled-safety-council-office-ergonomics-07-08-2020-7925
END:VEVENT

END:VCALENDAR
