BEGIN:VCALENDAR
VERSION:2.0
PRODID:-//ChamberMaster//Event Calendar 2.0//EN
METHOD:PUBLISH
X-PUBLISHED-TTL:P3D
REFRESH-INTERVAL:P3D
CALSCALE:GREGORIAN
BEGIN:VEVENT
DTSTART:20180613T153000Z
DTEND:20180613T170000Z
X-MICROSOFT-CDO-ALLDAYEVENT:FALSE
SUMMARY:Safety Council
DESCRIPTION:Safety Council Meeting\n\nTopic - Wellness
X-ALT-DESC;FMTTYPE=text/html:Safety Council Meeting<br />\nTopic - Wellness
LOCATION:Union County Services Building Union Rural Electric 15461 US Hwy. 36 Marysville\, OH
UID:e.1767.7900
SEQUENCE:3
DTSTAMP:20260425T203138Z
URL:https://chambermaster.unioncounty.org/events/details/cancelled-safety-council-office-ergonomics-06-13-2018-7900
END:VEVENT

END:VCALENDAR
