BEGIN:VCALENDAR
VERSION:2.0
PRODID:-//ChamberMaster//Event Calendar 2.0//EN
METHOD:PUBLISH
X-PUBLISHED-TTL:P3D
REFRESH-INTERVAL:P3D
CALSCALE:GREGORIAN
BEGIN:VEVENT
DTSTART:20180509T153000Z
DTEND:20180509T170000Z
X-MICROSOFT-CDO-ALLDAYEVENT:FALSE
SUMMARY:Safety Council
DESCRIPTION:Safety Council Meeting\n\nTopic - BWC Discount Programs
X-ALT-DESC;FMTTYPE=text/html:Safety Council Meeting<br />\nTopic - BWC&nbsp\;Discount Programs
LOCATION:Union Rural Electric 15461 US Hwy 36 Marysville\, OH
UID:e.1767.7899
SEQUENCE:3
DTSTAMP:20260425T203145Z
URL:https://chambermaster.unioncounty.org/events/details/cancelled-safety-council-office-ergonomics-05-09-2018-7899
END:VEVENT

END:VCALENDAR
