BEGIN:VCALENDAR
VERSION:2.0
PRODID:-//ChamberMaster//Event Calendar 2.0//EN
METHOD:PUBLISH
X-PUBLISHED-TTL:P3D
REFRESH-INTERVAL:P3D
CALSCALE:GREGORIAN
BEGIN:VEVENT
DTSTART:20180411T220000Z
DTEND:20180412T003000Z
X-MICROSOFT-CDO-ALLDAYEVENT:FALSE
SUMMARY:Safety Council
DESCRIPTION:Safety Council Annual Awards Banquet\n\nSpeaker - Bill Conley\, Former OSU Football Coach
X-ALT-DESC;FMTTYPE=text/html:Safety Council Annual Awards Banquet<br />\nSpeaker - Bill Conley\, Former OSU Football Coach
LOCATION:Der Dutchman 445 S. Jefferson Ave. Plain City\, OH
UID:e.1767.7898
SEQUENCE:3
DTSTAMP:20260426T000325Z
URL:https://chambermaster.unioncounty.org/events/details/cancelled-safety-council-office-ergonomics-04-11-2018-7898
END:VEVENT

END:VCALENDAR
