BEGIN:VCALENDAR
VERSION:2.0
PRODID:-//ChamberMaster//Event Calendar 2.0//EN
METHOD:PUBLISH
X-PUBLISHED-TTL:P3D
REFRESH-INTERVAL:P3D
CALSCALE:GREGORIAN
BEGIN:VEVENT
DTSTART:20200212T163000Z
DTEND:20200212T180000Z
X-MICROSOFT-CDO-ALLDAYEVENT:FALSE
SUMMARY:Safety Council
DESCRIPTION:Safety Council Meeting\n\nTopic - Accident Investigation\n\nBrian Dostanko - City of Marysville
X-ALT-DESC;FMTTYPE=text/html:Safety Council Meeting<br />\nTopic - Accident Investigation<br />\nBrian Dostanko - City of Marysville
LOCATION:Union County Services Building 940 London Rd. Marysville\, OH
UID:e.1767.7920
SEQUENCE:3
DTSTAMP:20260424T090235Z
URL:https://chambermaster.unioncounty.org/events/details/cancelled-safety-council-office-ergonomics-02-12-2020-7920
END:VEVENT

END:VCALENDAR
