BEGIN:VCALENDAR
VERSION:2.0
PRODID:-//ChamberMaster//Event Calendar 2.0//EN
METHOD:PUBLISH
X-PUBLISHED-TTL:P3D
REFRESH-INTERVAL:P3D
CALSCALE:GREGORIAN
BEGIN:VEVENT
DTSTART:20230111T163000Z
DTEND:20230111T180000Z
X-MICROSOFT-CDO-ALLDAYEVENT:FALSE
SUMMARY:Safety Council
DESCRIPTION:Safety Council Meeting\n\nTopic - Substance Use Recovery & Workplace Safety \n\nSpeaker - Jeff Little\, BWC
X-ALT-DESC;FMTTYPE=text/html:Safety Council Meeting<br />\nTopic - Substance Use Recovery &amp\; Workplace Safety&nbsp\;<br />\nSpeaker - Jeff Little\, BWC
LOCATION:Union County Services Building 940 London Avenue Marysville
UID:e.1767.7955
SEQUENCE:3
DTSTAMP:20260421T190411Z
URL:https://chambermaster.unioncounty.org/events/details/cancelled-safety-council-office-ergonomics-01-11-2023-7955
END:VEVENT

END:VCALENDAR
