BEGIN:VCALENDAR
VERSION:2.0
PRODID:-//ChamberMaster//Event Calendar 2.0//EN
METHOD:PUBLISH
X-PUBLISHED-TTL:P3D
REFRESH-INTERVAL:P3D
CALSCALE:GREGORIAN
BEGIN:VEVENT
DTSTART:20200311T153000Z
DTEND:20200311T170000Z
X-MICROSOFT-CDO-ALLDAYEVENT:FALSE
SUMMARY:Cancelled - Safety Council
DESCRIPTION:Safety Council Meeting\n\nTopic - What's new at OSHA\n\nMelissa Linton - OSHA
X-ALT-DESC;FMTTYPE=text/html:Safety Council Meeting<br />\nTopic - What&#39\;s new at OSHA<br />\nMelissa Linton - OSHA
LOCATION:Union County Services Building 940 London Rd. Marysville\, OH
UID:e.1767.7921
SEQUENCE:3
DTSTAMP:20260424T072413Z
URL:https://chambermaster.unioncounty.org/events/details/cancelled-safety-council-7921
END:VEVENT

END:VCALENDAR
