BEGIN:VCALENDAR
VERSION:2.0
PRODID:-//ChamberMaster//Event Calendar 2.0//EN
METHOD:PUBLISH
X-PUBLISHED-TTL:P3D
REFRESH-INTERVAL:P3D
CALSCALE:GREGORIAN
BEGIN:VEVENT
DTSTART:20200325T120000Z
DTEND:20200325T130000Z
X-MICROSOFT-CDO-ALLDAYEVENT:FALSE
SUMMARY:Cancelled - Plain City Business Association (PCBA)
DESCRIPTION:PCBA\n\n\n\nSpeaker:Karen Eylon\, CVB Director\n\nTopic:Union County Convention & Visitors Bureau\n\nSponsor: CVB\n\nRaffle:CVB
X-ALT-DESC;FMTTYPE=text/html:PCBA<br />\n<br />\nSpeaker:Karen Eylon\, CVB Director<br />\nTopic:Union County Convention &amp\; Visitors Bureau<br />\nSponsor: CVB<br />\nRaffle:CVB
LOCATION:Der Dutchman 445 S. Jefferson Ave. Plain City\, OH.
UID:e.1767.7467
SEQUENCE:3
DTSTAMP:20260424T072524Z
URL:https://chambermaster.unioncounty.org/events/details/cancelled-plain-city-business-association-pcba-7467
END:VEVENT

END:VCALENDAR
