BEGIN:VCALENDAR
VERSION:2.0
PRODID:-//ChamberMaster//Event Calendar 2.0//EN
METHOD:PUBLISH
X-PUBLISHED-TTL:P3D
REFRESH-INTERVAL:P3D
CALSCALE:GREGORIAN
BEGIN:VEVENT
DTSTART:20200923T150000Z
DTEND:20200923T153000Z
X-MICROSOFT-CDO-ALLDAYEVENT:FALSE
SUMMARY:Business Informational Resource and Assistance Call
DESCRIPTION:Business Informational Resource and Assistance Call\n\n\n\nOpen to ALL businesses to learn about current information and resources during the pandemic.
X-ALT-DESC;FMTTYPE=text/html:Business Informational Resource and Assistance Call<br />\n<br />\nOpen to ALL businesses to learn about current information and resources during the pandemic.&nbsp\;&nbsp\;&nbsp\;&nbsp\;
LOCATION:Call In Number: 937-971-6002\, 1820
UID:e.1767.13128
SEQUENCE:3
DTSTAMP:20260423T211334Z
URL:https://chambermaster.unioncounty.org/events/details/business-informational-resource-and-assistance-call-13128
END:VEVENT

END:VCALENDAR
