BEGIN:VCALENDAR
VERSION:2.0
PRODID:-//ChamberMaster//Event Calendar 2.0//EN
METHOD:PUBLISH
X-PUBLISHED-TTL:P3D
REFRESH-INTERVAL:P3D
CALSCALE:GREGORIAN
BEGIN:VEVENT
DTSTART:20220324T220000Z
DTEND:20220325T000000Z
X-MICROSOFT-CDO-ALLDAYEVENT:FALSE
SUMMARY:Business Impact Program - Candidates Forum
DESCRIPTION:Business Impact Program Topic: Primary Election Candidates Forum
X-ALT-DESC;FMTTYPE=text/html:Business Impact Program Topic: Primary Election Candidates Forum
LOCATION:Veterans Memorial Auditorium 233 W 6th Street Marysville\, OH 43040
UID:e.1767.9908
SEQUENCE:3
DTSTAMP:20260422T102555Z
URL:https://chambermaster.unioncounty.org/events/details/business-impact-program-candidates-forum-9908
END:VEVENT

END:VCALENDAR
