BEGIN:VCALENDAR
VERSION:2.0
PRODID:-//ChamberMaster//Event Calendar 2.0//EN
METHOD:PUBLISH
X-PUBLISHED-TTL:P3D
REFRESH-INTERVAL:P3D
CALSCALE:GREGORIAN
BEGIN:VEVENT
DTSTART:20201119T130000Z
DTEND:20201119T140000Z
X-MICROSOFT-CDO-ALLDAYEVENT:FALSE
SUMMARY:Business Impact Breakfast
DESCRIPTION:Business Impact Breakfast Topic: One Columbus Update with Kenny McDonald
X-ALT-DESC;FMTTYPE=text/html:Business Impact Breakfast Topic: One Columbus Update with Kenny McDonald
LOCATION:Via Zoom - You will receive the Zoom Link in a confirmation email
UID:e.1767.9892
SEQUENCE:3
DTSTAMP:20260423T092407Z
URL:https://chambermaster.unioncounty.org/events/details/business-impact-breakfast-9-22-2016-11-26-2020-9892
END:VEVENT

END:VCALENDAR
