BEGIN:VCALENDAR
VERSION:2.0
PRODID:-//ChamberMaster//Event Calendar 2.0//EN
METHOD:PUBLISH
X-PUBLISHED-TTL:P3D
REFRESH-INTERVAL:P3D
CALSCALE:GREGORIAN
BEGIN:VEVENT
DTSTART:20181025T120000Z
DTEND:20181025T131500Z
X-MICROSOFT-CDO-ALLDAYEVENT:FALSE
SUMMARY:Business Impact Breakfast
DESCRIPTION:Business Impact Breakfast Topic: Election Update\, Candidates & Issues
X-ALT-DESC;FMTTYPE=text/html:Business Impact Breakfast Topic: Election Update\, Candidates&nbsp\;&amp\; Issues
LOCATION:Union Rural Electric 15461 US 36 Marysville
UID:e.1767.9867
SEQUENCE:3
DTSTAMP:20260425T120046Z
URL:https://chambermaster.unioncounty.org/events/details/business-impact-breakfast-9-22-2016-10-25-2018-9867
END:VEVENT

END:VCALENDAR
