BEGIN:VCALENDAR
VERSION:2.0
PRODID:-//ChamberMaster//Event Calendar 2.0//EN
METHOD:PUBLISH
X-PUBLISHED-TTL:P3D
REFRESH-INTERVAL:P3D
CALSCALE:GREGORIAN
BEGIN:VEVENT
DTSTART:20191024T120000Z
DTEND:20191024T130000Z
X-MICROSOFT-CDO-ALLDAYEVENT:FALSE
SUMMARY:Business Impact Breakfast
DESCRIPTION:Business Impact Breakfast Topic: 2019 Japan Mission\n\n\n\nThe program will provide an overview of the recent Marysville-Union County Mission to Japan.
X-ALT-DESC;FMTTYPE=text/html:Business Impact Breakfast Topic: 2019 Japan Mission<br />\n<br />\nThe program will provide an overview of the recent Marysville-Union County Mission to Japan.
LOCATION:Moriroku Technology NA 15000 Industrial Parkway Marysville\, OH 43040
UID:e.1767.9879
SEQUENCE:3
DTSTAMP:20260424T162910Z
URL:https://chambermaster.unioncounty.org/events/details/business-impact-breakfast-9-22-2016-10-24-2019-9879
END:VEVENT

END:VCALENDAR
