BEGIN:VCALENDAR
VERSION:2.0
PRODID:-//ChamberMaster//Event Calendar 2.0//EN
METHOD:PUBLISH
X-PUBLISHED-TTL:P3D
REFRESH-INTERVAL:P3D
CALSCALE:GREGORIAN
BEGIN:VEVENT
DTSTART:20200924T120000Z
DTEND:20200924T130000Z
X-MICROSOFT-CDO-ALLDAYEVENT:FALSE
SUMMARY:Business Impact Breakfast
DESCRIPTION:Business Impact Breakfast Topic: Union County Breweries\n\n\n\n1487 Brewery\n\nDalton Union Winery and Brewery\n\nLeon's Garage\n\nRhetoric Brewing Company\n\nWalking Distance Brewing Co.\n\n\n\nBreakfast provided by Memorial Health
X-ALT-DESC;FMTTYPE=text/html:Business Impact Breakfast Topic: Union County Breweries<br />\n<br />\n1487 Brewery<br />\nDalton Union Winery and Brewery<br />\nLeon&#39\;s Garage<br />\nRhetoric Brewing Company<br />\nWalking Distance Brewing Co.<br />\n<br />\nBreakfast provided by Memorial Health
LOCATION:Memorial Health Pavilion\, Partners Park Marysville\, OH
UID:e.1767.9890
SEQUENCE:3
DTSTAMP:20260423T211539Z
URL:https://chambermaster.unioncounty.org/events/details/business-impact-breakfast-9-22-2016-09-24-2020-9890
END:VEVENT

END:VCALENDAR
