BEGIN:VCALENDAR
VERSION:2.0
PRODID:-//ChamberMaster//Event Calendar 2.0//EN
METHOD:PUBLISH
X-PUBLISHED-TTL:P3D
REFRESH-INTERVAL:P3D
CALSCALE:GREGORIAN
BEGIN:VEVENT
DTSTART:20190822T120000Z
DTEND:20190822T130000Z
X-MICROSOFT-CDO-ALLDAYEVENT:FALSE
SUMMARY:Business Impact Breakfast
DESCRIPTION:RSVP\n\nBusiness Impact Breakfast Topic: Honda Update 40 years in Union County\n\n                                                      33 Smart Mobility Presentation
X-ALT-DESC;FMTTYPE=text/html:RSVP<br />\nBusiness Impact Breakfast Topic: Honda Update 40 years in Union County<br />\n&nbsp\;&nbsp\;&nbsp\;&nbsp\;&nbsp\;&nbsp\;&nbsp\;&nbsp\;&nbsp\;&nbsp\;&nbsp\;&nbsp\;&nbsp\;&nbsp\;&nbsp\;&nbsp\;&nbsp\;&nbsp\;&nbsp\;&nbsp\;&nbsp\;&nbsp\;&nbsp\;&nbsp\;&nbsp\;&nbsp\;&nbsp\;&nbsp\;&nbsp\;&nbsp\;&nbsp\;&nbsp\;&nbsp\;&nbsp\;&nbsp\;&nbsp\;&nbsp\;&nbsp\;&nbsp\;&nbsp\;&nbsp\;&nbsp\;&nbsp\;&nbsp\;&nbsp\;&nbsp\;&nbsp\;&nbsp\;&nbsp\;&nbsp\;&nbsp\;&nbsp\;&nbsp\; 33 Smart Mobility Presentation&nbsp\;&nbsp\;
LOCATION:Honda Heritage Center 24025 Honda Parkway Marysville\, OH 43040
UID:e.1767.9877
SEQUENCE:3
DTSTAMP:20260424T183121Z
URL:https://chambermaster.unioncounty.org/events/details/business-impact-breakfast-9-22-2016-08-22-2019-9877
END:VEVENT

END:VCALENDAR
