BEGIN:VCALENDAR
VERSION:2.0
PRODID:-//ChamberMaster//Event Calendar 2.0//EN
METHOD:PUBLISH
X-PUBLISHED-TTL:P3D
REFRESH-INTERVAL:P3D
CALSCALE:GREGORIAN
BEGIN:VEVENT
DTSTART:20180628T120000Z
DTEND:20180628T130000Z
X-MICROSOFT-CDO-ALLDAYEVENT:FALSE
SUMMARY:Business Impact Breakfast
DESCRIPTION:Business Impact Breakfast Topic: Village of Plain City Update & Union County Drug Free Coalitions
X-ALT-DESC;FMTTYPE=text/html:Business Impact Breakfast Topic: Village of Plain City&nbsp\;Update &amp\; Union County&nbsp\;Drug Free Coalitions
LOCATION:The Der Dutchman 445 South Jefferson Ave. Plain City
UID:e.1767.9863
SEQUENCE:3
DTSTAMP:20260425T185102Z
URL:https://chambermaster.unioncounty.org/events/details/business-impact-breakfast-9-22-2016-06-28-2018-9863
END:VEVENT

END:VCALENDAR
