BEGIN:VCALENDAR
VERSION:2.0
PRODID:-//ChamberMaster//Event Calendar 2.0//EN
METHOD:PUBLISH
X-PUBLISHED-TTL:P3D
REFRESH-INTERVAL:P3D
CALSCALE:GREGORIAN
BEGIN:VEVENT
DTSTART:20220623T120000Z
DTEND:20220623T130000Z
X-MICROSOFT-CDO-ALLDAYEVENT:FALSE
SUMMARY:Business Impact Breakfast
DESCRIPTION:Business Impact Breakfast Topic: Industrial Market Update\n\n\n\nSpeakers from One Columbus\, Lee & Associates\, and Dublin Building Systems will provide updates on industrial real estate and development.\n\n\n\nBreakfast will be sponsored by EASE Logistics and they will provide a tour of their new facility after the meeting.
X-ALT-DESC;FMTTYPE=text/html:Business Impact Breakfast Topic: Industrial Market Update<br />\n<br />\nSpeakers from One Columbus\, Lee &amp\; Associates\, and Dublin Building Systems will provide updates on industrial real estate and development.<br />\n<br />\nBreakfast will be sponsored by EASE Logistics and they will provide a tour of their new facility after the meeting.
LOCATION:Southgate Building 1100 Innovation Way\, Suite D Marysville\, OH 43040
UID:e.1767.9911
SEQUENCE:3
DTSTAMP:20260422T072603Z
URL:https://chambermaster.unioncounty.org/events/details/business-impact-breakfast-9-22-2016-06-23-2022-9911
END:VEVENT

END:VCALENDAR
