BEGIN:VCALENDAR
VERSION:2.0
PRODID:-//ChamberMaster//Event Calendar 2.0//EN
METHOD:PUBLISH
X-PUBLISHED-TTL:P3D
REFRESH-INTERVAL:P3D
CALSCALE:GREGORIAN
BEGIN:VEVENT
DTSTART:20230622T120000Z
DTEND:20230622T130000Z
X-MICROSOFT-CDO-ALLDAYEVENT:FALSE
SUMMARY:Business Impact Breakfast
DESCRIPTION:Business Impact Breakfast Topic: Uptown Marysville & Mobility (Transportation)
X-ALT-DESC;FMTTYPE=text/html:Business Impact Breakfast Topic: Uptown Marysville &amp\; Mobility (Transportation)
LOCATION:Memorial Health Pavilion at Partners Park 125 East 5th Street\, Marysville
UID:e.1767.9923
SEQUENCE:3
DTSTAMP:20260421T144612Z
URL:https://chambermaster.unioncounty.org/events/details/business-impact-breakfast-9-22-2016-06-22-2023-9923
END:VEVENT

END:VCALENDAR
