BEGIN:VCALENDAR
VERSION:2.0
PRODID:-//ChamberMaster//Event Calendar 2.0//EN
METHOD:PUBLISH
X-PUBLISHED-TTL:P3D
REFRESH-INTERVAL:P3D
CALSCALE:GREGORIAN
BEGIN:VEVENT
DTSTART:20210527T120000Z
DTEND:20210527T130000Z
X-MICROSOFT-CDO-ALLDAYEVENT:FALSE
SUMMARY:Business Impact Breakfast
DESCRIPTION:Business Impact Breakfast Topic: Solar Farm Development Update
X-ALT-DESC;FMTTYPE=text/html:Business Impact Breakfast Topic: Solar Farm Development Update
LOCATION:Via Zoom
UID:e.1767.9898
SEQUENCE:3
DTSTAMP:20260423T014539Z
URL:https://chambermaster.unioncounty.org/events/details/business-impact-breakfast-9-22-2016-05-27-2021-9898
END:VEVENT

END:VCALENDAR
