BEGIN:VCALENDAR
VERSION:2.0
PRODID:-//ChamberMaster//Event Calendar 2.0//EN
METHOD:PUBLISH
X-PUBLISHED-TTL:P3D
REFRESH-INTERVAL:P3D
CALSCALE:GREGORIAN
BEGIN:VEVENT
DTSTART:20230525T120000Z
DTEND:20230525T130000Z
X-MICROSOFT-CDO-ALLDAYEVENT:FALSE
SUMMARY:Business Impact Breakfast
DESCRIPTION:Business Impact Breakfast Topic: County Officials
X-ALT-DESC;FMTTYPE=text/html:Business Impact Breakfast Topic: County Officials<br />\n&nbsp\;
LOCATION:Commissioners' Hearing Room 233 West 6th Street Marysville OH 43040
UID:e.1767.9922
SEQUENCE:3
DTSTAMP:20260421T130125Z
URL:https://chambermaster.unioncounty.org/events/details/business-impact-breakfast-9-22-2016-05-25-2023-9922
END:VEVENT

END:VCALENDAR
