BEGIN:VCALENDAR
VERSION:2.0
PRODID:-//ChamberMaster//Event Calendar 2.0//EN
METHOD:PUBLISH
X-PUBLISHED-TTL:P3D
REFRESH-INTERVAL:P3D
CALSCALE:GREGORIAN
BEGIN:VEVENT
DTSTART:20180531T120000Z
DTEND:20180531T130000Z
X-MICROSOFT-CDO-ALLDAYEVENT:FALSE
SUMMARY:Business Impact Breakfast
DESCRIPTION:Business Impact Breakfast Topic: \n\nRSVP needed - Space is limited to 80\n\nCompany Update: The Scotts Miracle-Gro Company - 150 Years in Marysville
X-ALT-DESC;FMTTYPE=text/html:Business Impact Breakfast Topic:&nbsp\;<br />\n<strong><span style="color:#FF0000\;">RSVP needed - Space is limited to 80</span></strong><br />\nCompany Update: The Scotts Miracle-Gro Company - 150 Years in Marysville
LOCATION:The Scotts Miracle-Gro Company 14111 Scottslawn Rd Marysville
UID:e.1767.9862
SEQUENCE:3
DTSTAMP:20260425T203027Z
URL:https://chambermaster.unioncounty.org/events/details/business-impact-breakfast-9-22-2016-05-24-2018-9862
END:VEVENT

END:VCALENDAR
