BEGIN:VCALENDAR
VERSION:2.0
PRODID:-//ChamberMaster//Event Calendar 2.0//EN
METHOD:PUBLISH
X-PUBLISHED-TTL:P3D
REFRESH-INTERVAL:P3D
CALSCALE:GREGORIAN
BEGIN:VEVENT
DTSTART:20190523T120000Z
DTEND:20190523T130000Z
X-MICROSOFT-CDO-ALLDAYEVENT:FALSE
SUMMARY:Business Impact Breakfast
DESCRIPTION:Business Impact Breakfast Topic: Bart Barok - NRI Jerome Village Update
X-ALT-DESC;FMTTYPE=text/html:Business Impact Breakfast Topic: Bart Barok - NRI Jerome Village Update
LOCATION:Jerome Village Community Center 7875 Ryan Pkwy. Plain City\, OH
UID:e.1767.9874
SEQUENCE:3
DTSTAMP:20260424T233727Z
URL:https://chambermaster.unioncounty.org/events/details/business-impact-breakfast-9-22-2016-05-23-2019-9874
END:VEVENT

END:VCALENDAR
