BEGIN:VCALENDAR
VERSION:2.0
PRODID:-//ChamberMaster//Event Calendar 2.0//EN
METHOD:PUBLISH
X-PUBLISHED-TTL:P3D
REFRESH-INTERVAL:P3D
CALSCALE:GREGORIAN
BEGIN:VEVENT
DTSTART:20180426T120000Z
DTEND:20180426T130000Z
X-MICROSOFT-CDO-ALLDAYEVENT:FALSE
SUMMARY:Business Impact Breakfast
DESCRIPTION:Business Impact Breakfast Topic: K-12 Superintendents Forum
X-ALT-DESC;FMTTYPE=text/html:Business Impact Breakfast Topic: K-12 Superintendents Forum
LOCATION:North Union District Board of Education Offices 12920 State Route 739 Richwood
UID:e.1767.9861
SEQUENCE:3
DTSTAMP:20260425T221327Z
URL:https://chambermaster.unioncounty.org/events/details/business-impact-breakfast-9-22-2016-04-26-2018-9861
END:VEVENT

END:VCALENDAR
