BEGIN:VCALENDAR
VERSION:2.0
PRODID:-//ChamberMaster//Event Calendar 2.0//EN
METHOD:PUBLISH
X-PUBLISHED-TTL:P3D
REFRESH-INTERVAL:P3D
CALSCALE:GREGORIAN
BEGIN:VEVENT
DTSTART:20190425T120000Z
DTEND:20190425T130000Z
X-MICROSOFT-CDO-ALLDAYEVENT:FALSE
SUMMARY:Business Impact Breakfast
DESCRIPTION:Business Impact Breakfast Topic: Nestle Showcase - Celebrating 100 years
X-ALT-DESC;FMTTYPE=text/html:Business Impact Breakfast Topic: Nestle Showcase - Celebrating 100 years
LOCATION:Nestle Development Center 809 Collins Avenue Marysville\, OH
UID:e.1767.9873
SEQUENCE:3
DTSTAMP:20260425T013245Z
URL:https://chambermaster.unioncounty.org/events/details/business-impact-breakfast-9-22-2016-04-25-2019-9873
END:VEVENT

END:VCALENDAR
