BEGIN:VCALENDAR
VERSION:2.0
PRODID:-//ChamberMaster//Event Calendar 2.0//EN
METHOD:PUBLISH
X-PUBLISHED-TTL:P3D
REFRESH-INTERVAL:P3D
CALSCALE:GREGORIAN
BEGIN:VEVENT
DTSTART:20190328T120000Z
DTEND:20190328T130000Z
X-MICROSOFT-CDO-ALLDAYEVENT:FALSE
SUMMARY:Business Impact Breakfast
DESCRIPTION:Business Impact Breakfast Topic: \n\nMarysville Bicentennial Update - Amanda Morris\n\nUnion County Bicentennial Update - Karen Eylon
X-ALT-DESC;FMTTYPE=text/html:Business Impact Breakfast Topic:&nbsp\;<br />\nMarysville Bicentennial Update - Amanda Morris<br />\nUnion County Bicentennial Update - Karen Eylon
LOCATION:Marysville City Hall 209 S. Main St. Marysville\, OH
UID:e.1767.9872
SEQUENCE:3
DTSTAMP:20260425T030943Z
URL:https://chambermaster.unioncounty.org/events/details/business-impact-breakfast-9-22-2016-03-28-2019-9872
END:VEVENT

END:VCALENDAR
