BEGIN:VCALENDAR
VERSION:2.0
PRODID:-//ChamberMaster//Event Calendar 2.0//EN
METHOD:PUBLISH
X-PUBLISHED-TTL:P3D
REFRESH-INTERVAL:P3D
CALSCALE:GREGORIAN
BEGIN:VEVENT
DTSTART:20230323T120000Z
DTEND:20230323T130000Z
X-MICROSOFT-CDO-ALLDAYEVENT:FALSE
SUMMARY:Business Impact Breakfast
DESCRIPTION:Business Impact Breakfast Topic:\n\n\n\nTalent Recruitment for Companies - an overview of the great resignation\, how we got here\, and the best practices to improve attraction and retention.\n\n\n\nHigh School Internships
X-ALT-DESC;FMTTYPE=text/html:Business Impact Breakfast Topic:<br />\n<br />\nTalent Recruitment for Companies - an overview of the great resignation\, how we got here\, and the best practices to improve attraction and retention.<br />\n<br />\nHigh School Internships&nbsp\;
LOCATION:Decker Fire Station 16300 County Home Road Marysville\, OH 43040
UID:e.1767.9920
SEQUENCE:3
DTSTAMP:20260421T171326Z
URL:https://chambermaster.unioncounty.org/events/details/business-impact-breakfast-9-22-2016-03-23-2023-9920
END:VEVENT

END:VCALENDAR
