BEGIN:VCALENDAR
VERSION:2.0
PRODID:-//ChamberMaster//Event Calendar 2.0//EN
METHOD:PUBLISH
X-PUBLISHED-TTL:P3D
REFRESH-INTERVAL:P3D
CALSCALE:GREGORIAN
BEGIN:VEVENT
DTSTART:20180322T120000Z
DTEND:20180322T130000Z
X-MICROSOFT-CDO-ALLDAYEVENT:FALSE
SUMMARY:Business Impact Breakfast
DESCRIPTION:Business Impact Breakfast Topic: Connected Marysville\n\n50 people\, limited space is available
X-ALT-DESC;FMTTYPE=text/html:Business Impact Breakfast Topic: Connected Marysville<br />\n50 people\, limited space is available
LOCATION:Marysville Police & Court Building 1250 West Fifth St. Marysville
UID:e.1767.9860
SEQUENCE:3
DTSTAMP:20260426T000236Z
URL:https://chambermaster.unioncounty.org/events/details/business-impact-breakfast-9-22-2016-03-22-2018-9860
END:VEVENT

END:VCALENDAR
