BEGIN:VCALENDAR
VERSION:2.0
PRODID:-//ChamberMaster//Event Calendar 2.0//EN
METHOD:PUBLISH
X-PUBLISHED-TTL:P3D
REFRESH-INTERVAL:P3D
CALSCALE:GREGORIAN
BEGIN:VEVENT
DTSTART:20200227T130000Z
DTEND:20200227T140000Z
X-MICROSOFT-CDO-ALLDAYEVENT:FALSE
SUMMARY:Business Impact Breakfast
DESCRIPTION:Business Impact Breakfast Topic: Helping Grow Business - Financing Panel
X-ALT-DESC;FMTTYPE=text/html:Business Impact Breakfast Topic: Helping Grow Business - Financing Panel
LOCATION:Jerome Township Hall 9777 Industrial Parkway Plain City
UID:e.1767.9883
SEQUENCE:3
DTSTAMP:20260424T090122Z
URL:https://chambermaster.unioncounty.org/events/details/business-impact-breakfast-9-22-2016-02-27-2020-9883
END:VEVENT

END:VCALENDAR
