BEGIN:VCALENDAR
VERSION:2.0
PRODID:-//ChamberMaster//Event Calendar 2.0//EN
METHOD:PUBLISH
X-PUBLISHED-TTL:P3D
REFRESH-INTERVAL:P3D
CALSCALE:GREGORIAN
BEGIN:VEVENT
DTSTART:20180222T130000Z
DTEND:20180222T140000Z
X-MICROSOFT-CDO-ALLDAYEVENT:FALSE
SUMMARY:Business Impact Breakfast
DESCRIPTION:Business Impact Breakfast Topic: 2017 Japanese Mission\n\nSeating is limited to 50 people
X-ALT-DESC;FMTTYPE=text/html:Business Impact Breakfast Topic: 2017 Japanese Mission<br />\n<span style="color:#FF0000\;">Seating is limited to 50 people</span>
LOCATION:Marysville Police & Court Building 1250 West Fifth St. Marysville
UID:e.1767.9859
SEQUENCE:3
DTSTAMP:20260426T014727Z
URL:https://chambermaster.unioncounty.org/events/details/business-impact-breakfast-9-22-2016-02-22-2018-9859
END:VEVENT

END:VCALENDAR
